BEGIN:VCALENDAR
VERSION:2.0
PRODID:-//A Ford Club Nederland - ECPv6.15.20//NONSGML v1.0//EN
CALSCALE:GREGORIAN
METHOD:PUBLISH
X-ORIGINAL-URL:https://www.a-ford.nl
X-WR-CALDESC:Evenementen voor A Ford Club Nederland
REFRESH-INTERVAL;VALUE=DURATION:PT1H
X-Robots-Tag:noindex
X-PUBLISHED-TTL:PT1H
BEGIN:VTIMEZONE
TZID:Europe/Amsterdam
BEGIN:DAYLIGHT
TZOFFSETFROM:+0100
TZOFFSETTO:+0200
TZNAME:CEST
DTSTART:20250330T010000
END:DAYLIGHT
BEGIN:STANDARD
TZOFFSETFROM:+0200
TZOFFSETTO:+0100
TZNAME:CET
DTSTART:20251026T010000
END:STANDARD
BEGIN:DAYLIGHT
TZOFFSETFROM:+0100
TZOFFSETTO:+0200
TZNAME:CEST
DTSTART:20260329T010000
END:DAYLIGHT
BEGIN:STANDARD
TZOFFSETFROM:+0200
TZOFFSETTO:+0100
TZNAME:CET
DTSTART:20261025T010000
END:STANDARD
BEGIN:DAYLIGHT
TZOFFSETFROM:+0100
TZOFFSETTO:+0200
TZNAME:CEST
DTSTART:20270328T010000
END:DAYLIGHT
BEGIN:STANDARD
TZOFFSETFROM:+0200
TZOFFSETTO:+0100
TZNAME:CET
DTSTART:20271031T010000
END:STANDARD
END:VTIMEZONE
BEGIN:VEVENT
DTSTART;TZID=Europe/Amsterdam:20261021T193000
DTEND;TZID=Europe/Amsterdam:20261021T223000
DTSTAMP:20260421T072041
CREATED:20260103T152329Z
LAST-MODIFIED:20260103T152753Z
UID:28942-1792611000-1792621800@www.a-ford.nl
SUMMARY:Koffieklets Kockengen
DESCRIPTION:
URL:https://www.a-ford.nl/event/koffieklets/
LOCATION:Restaurant Old School Kockengen\, Wagendijk 43\, Kockengen\, 3628 ES
CATEGORIES:Clubevenementen
END:VEVENT
BEGIN:VEVENT
DTSTART;VALUE=DATE:20261025
DTEND;VALUE=DATE:20261026
DTSTAMP:20260421T072041
CREATED:20260103T152427Z
LAST-MODIFIED:20260121T180114Z
UID:28944-1792886400-1792972799@www.a-ford.nl
SUMMARY:Herfstrit
DESCRIPTION:
URL:https://www.a-ford.nl/event/achterhoek-rit/
CATEGORIES:Clubevenementen
END:VEVENT
BEGIN:VEVENT
DTSTART;TZID=Europe/Amsterdam:20261118T193000
DTEND;TZID=Europe/Amsterdam:20261118T223000
DTSTAMP:20260421T072041
CREATED:20260103T153006Z
LAST-MODIFIED:20260103T153006Z
UID:28951-1795030200-1795041000@www.a-ford.nl
SUMMARY:Koffieklets Kockengen
DESCRIPTION:
URL:https://www.a-ford.nl/event/koffieklets-kockengen-8/
LOCATION:Restaurant Old School Kockengen\, Wagendijk 43\, Kockengen\, 3628 ES
CATEGORIES:Clubevenementen
END:VEVENT
BEGIN:VEVENT
DTSTART;TZID=Europe/Amsterdam:20261216T193000
DTEND;TZID=Europe/Amsterdam:20261216T223000
DTSTAMP:20260421T072041
CREATED:20260103T152726Z
LAST-MODIFIED:20260103T152726Z
UID:28948-1797449400-1797460200@www.a-ford.nl
SUMMARY:Koffieklets Kockengen
DESCRIPTION:
URL:https://www.a-ford.nl/event/koffieklets-kockengen-7/
LOCATION:Restaurant Old School Kockengen\, Wagendijk 43\, Kockengen\, 3628 ES
CATEGORIES:Clubevenementen
END:VEVENT
END:VCALENDAR