BEGIN:VCALENDAR
VERSION:2.0
PRODID:-//A Ford Club Nederland - ECPv6.15.20//NONSGML v1.0//EN
CALSCALE:GREGORIAN
METHOD:PUBLISH
X-WR-CALNAME:A Ford Club Nederland
X-ORIGINAL-URL:https://www.a-ford.nl
X-WR-CALDESC:Evenementen voor A Ford Club Nederland
REFRESH-INTERVAL;VALUE=DURATION:PT1H
X-Robots-Tag:noindex
X-PUBLISHED-TTL:PT1H
BEGIN:VTIMEZONE
TZID:Europe/Amsterdam
BEGIN:DAYLIGHT
TZOFFSETFROM:+0100
TZOFFSETTO:+0200
TZNAME:CEST
DTSTART:20250330T010000
END:DAYLIGHT
BEGIN:STANDARD
TZOFFSETFROM:+0200
TZOFFSETTO:+0100
TZNAME:CET
DTSTART:20251026T010000
END:STANDARD
BEGIN:DAYLIGHT
TZOFFSETFROM:+0100
TZOFFSETTO:+0200
TZNAME:CEST
DTSTART:20260329T010000
END:DAYLIGHT
BEGIN:STANDARD
TZOFFSETFROM:+0200
TZOFFSETTO:+0100
TZNAME:CET
DTSTART:20261025T010000
END:STANDARD
BEGIN:DAYLIGHT
TZOFFSETFROM:+0100
TZOFFSETTO:+0200
TZNAME:CEST
DTSTART:20270328T010000
END:DAYLIGHT
BEGIN:STANDARD
TZOFFSETFROM:+0200
TZOFFSETTO:+0100
TZNAME:CET
DTSTART:20271031T010000
END:STANDARD
END:VTIMEZONE
BEGIN:VEVENT
DTSTART;VALUE=DATE:20260614
DTEND;VALUE=DATE:20260615
DTSTAMP:20260421T060014
CREATED:20260103T151353Z
LAST-MODIFIED:20260215T150214Z
UID:28926-1781395200-1781481599@www.a-ford.nl
SUMMARY:BeNeFord Rit
DESCRIPTION:BENEFORD – RIT    – ZONDAG 14 JUNI 2026 \n  \nWanneer:              Zondag 14 juni 2026 \nWaar:                   Autosalon Doornhoek\, Doornhoek 3\, 5465RC Zijtaart (Veghel\, Nederland) \nVoor wie:               Alle leden A-Ford club Nederland en A-Ford club België \nKosten:                 Geen kosten voor de ontvangst (met koffie/thee/gebak)  en de rit\, lunch is voor eigen kosten \nContactpersoon:    Bea van Grinsven\, tel (+31) (0) 6 13025596 \n  \nHarry en Bea van Grinsven ontvangen u graag in hun oldtimermuseum: Autosalon Doornhoek\, Doornhoek 3\, 5465RC Zijtaart (Veghel). Het museum is open vanaf 9.30uur. \nDe toertocht start om 11.00uur en na ongeveer 1\,5 uur  is een pauzeplek voorzien in Berlicum (Restaurant De Hooghei\, Hooghei 71\, 5258SX Berlicum)  Er zijn daar volop mogelijkheden voor de lunch. Na de lunch duurt de rit nog ongeveer 1\,5 uur en naar verwachting zijn rond 16.00uur alle auto’s weer in Zijtaart. \nInschrijven via de mail: info@autosalondoornhoek.com Wilt u daarbij ook aangeven of u de lunch gebruikt in Restaurant De Hooghei ? (dit om te zorgen dat de wachttijd daar niet te lang wordt) \nP.S. \n– er is voldoende parkeergelegenheid voor trailers \n– mocht u geïnteresseerd zijn in bomen en heesters dan kunt u bij de familie van Grinsven ook een wandeling maken door het arboretum: Bomentuin Doornhoek \n 
URL:https://www.a-ford.nl/event/beneford-rit-2/
LOCATION:Autosalon Doornhoek\, Doornhoek 1b\, Zijtaart\, Netherlands
CATEGORIES:Clubevenementen
ORGANIZER;CN="B. en H. van Grinsven":MAILTO:info@autosalondoornhoek.com
END:VEVENT
BEGIN:VEVENT
DTSTART;VALUE=DATE:20260620
DTEND;VALUE=DATE:20260621
DTSTAMP:20260421T060014
CREATED:20250807T214628Z
LAST-MODIFIED:20260126T215614Z
UID:28129-1781913600-1781999999@www.a-ford.nl
SUMMARY:Lustrum Jubileum weekend
DESCRIPTION:  \n\n                                                                                       Lustrum AFCN 70 jaar\n  \nDe A-Ford Club Nederland is opgericht in 1956 en bestaat in 2026 70 jaar. \n  \nDit jubileum willen we graag met jullie gaan vieren! We hopen op een grote opkomst om op zaterdag 20 juni met zoveel mogelijk Fordjes een lustrumrit te rijden\, met aansluitend een buffet en feestavond bij partycentrum De Essenburcht in Kootwijkerbroek. \n  \nDe lustrumcommissie is voornemens er een mooi weekend van te maken wat er als volgt uit gaat zien: \n  \nVrijdag 19 juni \nVoor de leden die al op vrijdag willen starten met het weekend is er vanaf 16.00 uur ontvangst met koffie en iets lekkers bij Adrie en Gerdien ten Hove\, Valkseweg 247 in Barneveld. \nHier kunnen eventueel ook de auto-ambulances geparkeerd worden (video-bewaakt) tot zaterdagavond 23.00 uur.  \nOm 18.00 uur zal er een korte rit gereden worden en aansluitend is er een barbecue bij Koetjes en Kalfjes aan de Lage Valkseweg 54 in Wekerom. \n  \nZaterdag 20 juni \nDe lustrumdag\, het hoogtepunt waar het allemaal om draait. \nVanaf 9.00 uur bent u welkom bij De Essenburcht\, Schoonbeekhof 1 in Kootwijkerbroek om u te laten inschrijven. \nNa de koffie gaan we een mooie uitgezette route rijden met halverwege een lunchstop. \nDe tweede helft van de lustrumrit zetten we voort door het mooie Gelderse landschap. \nHet eindpunt is wederom De Essenburcht waar u na een hapje en drankje kunt genieten van een geweldig buffet\, aanvang ca. 18.00 uur. Na het buffet is er nog een feestavond waar we gezellig kunnen napraten. \n  \nDe lustrumcommissie is enthousiast en wij hopen u dat u dit bijzondere jubileum samen met ons wilt vieren. Een weekend vol nostalgie\, rijplezier en clubvriendschap. Precies zoals het 70 jaar geleden begon. \n  \nDe verschillende arrangementen staan in dit journaal vermeld\, u kunt zich dan ook opgeven. \n  \n  \nDe lustrumcommissie: \nAdrie en Gerdien ten Hove\, Ron en Yvon Letter\, David de Vries\, Bert Reitsma en Jaap en Wil Jongedijk \n  \n__________________________________________________________________________________ \nWilt u overnachten in de buurt? Boek dan op tijd want juni is een populaire maand om eropuit te gaan en is snel volgeboekt. \n  \nSuggesties hotels:                                                                   camperplaatsen/camping/huisjes: \nHotel de Werelt te Lunteren                                                      Hoge Valk Lunteren \nHotel ’t Speulderbos Garderen                                                 Europarcs de Zanding Ottero \nHotel Groot Heideborgh Garderen                                           (ook groepsaccomodatie) \nHuman Horse hotel Kootwijkerbroek                                         B&B’s zijn er ook genoeg te vinden \n                                                                                               in de omgeving \n  \n  \nInschrijven kan door  de onderstaande link naar het inschrijf formulier in te vullen.\nHier downloaden:\n\n	inschrijf formulier lustrum  weekend	(23 downloads	)\n\n\n  \n  \n  \n  \n 
URL:https://www.a-ford.nl/event/lustrum-jubileum-weekend/
CATEGORIES:Clubevenementen
END:VEVENT
BEGIN:VEVENT
DTSTART;VALUE=DATE:20260704
DTEND;VALUE=DATE:20260705
DTSTAMP:20260421T060014
CREATED:20260215T155022Z
LAST-MODIFIED:20260217T172732Z
UID:29159-1783123200-1783209599@www.a-ford.nl
SUMMARY:Lekstroom en Utrechtse Heuvelrug Rit
DESCRIPTION:lekstroom en utrechtse heuvelrug\nA- Ford Clubrit- 4 juli 2026\nUitnodiging voor alle AFCN-leden voor deze rit door het stroomgebied van de Lek-Nederrijn en over de Utrechtse Heuvelrug \nOntvangst vanaf 10 uur bij Sociaal Cultureel Centrum ’t Gebouw aan de Kerkebogerd 1a in Tull en t Waal. \nParkeren kan op het bijgelegen terrein ( beperkt) \nen op het erf van de woning aan de Strijpweg 2 in Tull en ’t Waal. \nParkeren opleggers/ trailers kan op de parkeerplaats Fort Honswijk/Lunet aan de Snel langs de Lekdijk ( Schalkwijk)  dit is circa 4\,5 km van ’t Gebouw. \nNa ontvangst met een kop koffie/ thee en wat lekkers start de rit om 11 uur\, met halverwege een lunchpauze. \nBij terug komst sluiten we af met een hapje en een drankje. \nDe ritkosten bedragen 17\,50. \nGraag bij aanmelding overmaken op rekeningnummer NL15KNAB0205522750 t.n.v. R.W. van Engelen o.v.v. A-Ford clubrit. \nKinderen zijn welkom\, voor hen ( t/m 10 jaar vragen we een bijdrage van 10 euro. \naanmelden kan t/m uiterlijk 23 juni a.s. \nvia r.van.engelen@live.nl of 06-22018129 \ntot ziens op 4 juli! \nRene en Lucie van Engelen \n  \n 
URL:https://www.a-ford.nl/event/lekstroom-en-utrechtse-heuvelrug-rit/
LOCATION:Sociaal cultureel centrum ’t gebouw\, Strijpweg 2\, Tull en t Waal\, Netherlands
CATEGORIES:Clubevenementen
ORGANIZER;CN="Rene en Lucie van Engelen":MAILTO:r.van.engelen@live.nl
END:VEVENT
BEGIN:VEVENT
DTSTART;VALUE=DATE:20260822
DTEND;VALUE=DATE:20260823
DTSTAMP:20260421T060014
CREATED:20260103T151655Z
LAST-MODIFIED:20260103T153505Z
UID:28930-1787356800-1787443199@www.a-ford.nl
SUMMARY:Midden Zeeland Rit
DESCRIPTION:
URL:https://www.a-ford.nl/event/midden-zeeland-rit/
CATEGORIES:Clubevenementen
END:VEVENT
BEGIN:VEVENT
DTSTART;TZID=Europe/Amsterdam:20260905T080000
DTEND;TZID=Europe/Amsterdam:20260905T170000
DTSTAMP:20260421T060014
CREATED:20260103T151847Z
LAST-MODIFIED:20260103T151847Z
UID:28934-1788595200-1788627600@www.a-ford.nl
SUMMARY:Twente Rit
DESCRIPTION:
URL:https://www.a-ford.nl/event/twente-rit-2/
CATEGORIES:Clubevenementen
END:VEVENT
BEGIN:VEVENT
DTSTART;VALUE=DATE:20260912
DTEND;VALUE=DATE:20260913
DTSTAMP:20260421T060014
CREATED:20260323T191602Z
LAST-MODIFIED:20260323T192237Z
UID:29287-1789171200-1789257599@www.a-ford.nl
SUMMARY:Bommelerwaard-rit
DESCRIPTION:Uitnodiging\n                           Bommelerwaardrit.\n  Op zaterdag 12 september 2026 organiseren wij voor jullie weer de Bommelerwaardrit.\nLocatie: t’ kruispunt Kerkpad 4 5308 KH Aalst.\nIedereen is van harte welkom !\nVanaf 9.30 uur staat de koffie/thee met wat lekkers klaar.\nOmstreeks 10.45  vertrekken we voor de ochtendrit.\n Komt u met de aanhangwagen dan kan die weer op de Eendenkade 4  5308 NR Aalst geparkeerd worden. Vandaar gaat u L.A de Eendenkade op bij de rotonde de 2e afslag nemen\, bij de supermarkt L.A de Kerkstraat in\, aan het einde is t’Kruispunt.  (= 1 km.)                                                                \nDe dag ziet er als volgt uit:\nWe rijden een ochtend en een middag rit met daar tussenin om ongeveer 12.30. een lunch.  Hier is ook het één en ander te zien. Ergens tussen half vier en vier uur hopen we terug te zijn. En kunnen we onder het genot van een hapje en een drankje nog we nog wat na te praten.\n                     We zien uit naar jullie komst en hopen op een grote opkomst.\nKosten: 20\,- p.p. te betalen bij aankomst. Kinderen tot 12 jaar betalen de helft.\nOpgave: bij Nijs de Zeeuw tel. 06-30925631  of E mail  nijsdezeeuw@gmail.com
URL:https://www.a-ford.nl/event/bommelerwaard-rit-2/
LOCATION:Aalst\, t’ kruispunt Kerkpad 4\, Aalst.\, 5308 KH\, Netherlands
CATEGORIES:Clubevenementen
ORGANIZER;CN="Nijs de Zeeuw":MAILTO:nijsdezeeuw@gmail.com
END:VEVENT
BEGIN:VEVENT
DTSTART;VALUE=DATE:20260912
DTEND;VALUE=DATE:20260913
DTSTAMP:20260421T060014
CREATED:20260103T151949Z
LAST-MODIFIED:20260103T151949Z
UID:28936-1789171200-1789257599@www.a-ford.nl
SUMMARY:Bommelerwaard Rit
DESCRIPTION:
URL:https://www.a-ford.nl/event/bommelerwaard-rit/
CATEGORIES:Clubevenementen
END:VEVENT
BEGIN:VEVENT
DTSTART;TZID=Europe/Amsterdam:20261021T193000
DTEND;TZID=Europe/Amsterdam:20261021T223000
DTSTAMP:20260421T060014
CREATED:20260103T152329Z
LAST-MODIFIED:20260103T152753Z
UID:28942-1792611000-1792621800@www.a-ford.nl
SUMMARY:Koffieklets Kockengen
DESCRIPTION:
URL:https://www.a-ford.nl/event/koffieklets/
LOCATION:Restaurant Old School Kockengen\, Wagendijk 43\, Kockengen\, 3628 ES
CATEGORIES:Clubevenementen
END:VEVENT
BEGIN:VEVENT
DTSTART;VALUE=DATE:20261025
DTEND;VALUE=DATE:20261026
DTSTAMP:20260421T060014
CREATED:20260103T152427Z
LAST-MODIFIED:20260121T180114Z
UID:28944-1792886400-1792972799@www.a-ford.nl
SUMMARY:Herfstrit
DESCRIPTION:
URL:https://www.a-ford.nl/event/achterhoek-rit/
CATEGORIES:Clubevenementen
END:VEVENT
BEGIN:VEVENT
DTSTART;TZID=Europe/Amsterdam:20261118T193000
DTEND;TZID=Europe/Amsterdam:20261118T223000
DTSTAMP:20260421T060014
CREATED:20260103T153006Z
LAST-MODIFIED:20260103T153006Z
UID:28951-1795030200-1795041000@www.a-ford.nl
SUMMARY:Koffieklets Kockengen
DESCRIPTION:
URL:https://www.a-ford.nl/event/koffieklets-kockengen-8/
LOCATION:Restaurant Old School Kockengen\, Wagendijk 43\, Kockengen\, 3628 ES
CATEGORIES:Clubevenementen
END:VEVENT
BEGIN:VEVENT
DTSTART;TZID=Europe/Amsterdam:20261216T193000
DTEND;TZID=Europe/Amsterdam:20261216T223000
DTSTAMP:20260421T060014
CREATED:20260103T152726Z
LAST-MODIFIED:20260103T152726Z
UID:28948-1797449400-1797460200@www.a-ford.nl
SUMMARY:Koffieklets Kockengen
DESCRIPTION:
URL:https://www.a-ford.nl/event/koffieklets-kockengen-7/
LOCATION:Restaurant Old School Kockengen\, Wagendijk 43\, Kockengen\, 3628 ES
CATEGORIES:Clubevenementen
END:VEVENT
END:VCALENDAR