BEGIN:VCALENDAR
VERSION:2.0
PRODID:-//A Ford Club Nederland - ECPv6.15.20//NONSGML v1.0//EN
CALSCALE:GREGORIAN
METHOD:PUBLISH
X-ORIGINAL-URL:https://www.a-ford.nl
X-WR-CALDESC:Evenementen voor A Ford Club Nederland
REFRESH-INTERVAL;VALUE=DURATION:PT1H
X-Robots-Tag:noindex
X-PUBLISHED-TTL:PT1H
BEGIN:VTIMEZONE
TZID:Europe/Amsterdam
BEGIN:DAYLIGHT
TZOFFSETFROM:+0100
TZOFFSETTO:+0200
TZNAME:CEST
DTSTART:20250330T010000
END:DAYLIGHT
BEGIN:STANDARD
TZOFFSETFROM:+0200
TZOFFSETTO:+0100
TZNAME:CET
DTSTART:20251026T010000
END:STANDARD
BEGIN:DAYLIGHT
TZOFFSETFROM:+0100
TZOFFSETTO:+0200
TZNAME:CEST
DTSTART:20260329T010000
END:DAYLIGHT
BEGIN:STANDARD
TZOFFSETFROM:+0200
TZOFFSETTO:+0100
TZNAME:CET
DTSTART:20261025T010000
END:STANDARD
BEGIN:DAYLIGHT
TZOFFSETFROM:+0100
TZOFFSETTO:+0200
TZNAME:CEST
DTSTART:20270328T010000
END:DAYLIGHT
BEGIN:STANDARD
TZOFFSETFROM:+0200
TZOFFSETTO:+0100
TZNAME:CET
DTSTART:20271031T010000
END:STANDARD
END:VTIMEZONE
BEGIN:VEVENT
DTSTART;VALUE=DATE:20260531
DTEND;VALUE=DATE:20260601
DTSTAMP:20260421T004527
CREATED:20260103T151243Z
LAST-MODIFIED:20260215T151344Z
UID:28924-1780185600-1780271999@www.a-ford.nl
SUMMARY:Gezelligheids Rit
DESCRIPTION:UITNODIGING \nvoor alle A- Ford Club leden voor de mooie en complete verzorgde gezelligheidsrit in ZUIDHORH op 31 mei 2026 \nNa het grote succes van de voorgaande jaren \, gaan we dit jaar extra aandacht besteden aan het 70 jarig bestaan van onze bijzonder mooie  club o.a. ieder clublid krijgt na afloop een verrassingspakket  [Noordelijke specialiteiten] mee naar huis. \nDeelname aan deze rit is geheel gratis . \nOntvangst vanaf 10.00 in café-restaurant in ’t Holt\, Hoofdstraat 2\, 9801 BW Zuidhorn\, waar wij beginnen met koffie en gebak. \nOm plm. 11.30 uur vertrekken wij door met een mooie tocht door de mooie provincie\,s Groningen\, Friesland en Drenthe. \nHalverwege een pauze/stop \,waar we kunnen genieten van een heerlijke lunch. \nBij terugkomst in Zuidhorn staan de drankjes en borrelhapjes klaar en kunnen wij nog napraten over de tocht en over onze mooie A-Ford club die dit jaar 70 jaar jong is. \nGraag opgave van deelneming  in verband met uitgave verrassingspakket en aantal koffie/gebak/lunch \nopgave tel. nr. is 0654712759 en per e-mail  jenne.hummel@planet.nl \nAlvast tot ziens\, \nMVG Jenne Hummel\, Haulerwijk en jeugdlid Age Veldman uit Peize  en namens onze gastheer van de paardensportver. Zuidhorn Arnold Wegman. \n\ngraag bewijs van lidmaatschap mee brengen
URL:https://www.a-ford.nl/event/gezelligheidsrit/
LOCATION:Grand café In ’t Holt 1654\, Zuidhorn\, Netherlands
CATEGORIES:Clubevenementen
ORGANIZER;CN="Jenne Hummel":MAILTO:Jenne.hummel@planet.nl
END:VEVENT
END:VCALENDAR