BEGIN:VCALENDAR
VERSION:2.0
PRODID:-//A Ford Club Nederland - ECPv6.15.20//NONSGML v1.0//EN
CALSCALE:GREGORIAN
METHOD:PUBLISH
X-WR-CALNAME:A Ford Club Nederland
X-ORIGINAL-URL:https://www.a-ford.nl
X-WR-CALDESC:Evenementen voor A Ford Club Nederland
REFRESH-INTERVAL;VALUE=DURATION:PT1H
X-Robots-Tag:noindex
X-PUBLISHED-TTL:PT1H
BEGIN:VTIMEZONE
TZID:Europe/Amsterdam
BEGIN:DAYLIGHT
TZOFFSETFROM:+0100
TZOFFSETTO:+0200
TZNAME:CEST
DTSTART:20250330T010000
END:DAYLIGHT
BEGIN:STANDARD
TZOFFSETFROM:+0200
TZOFFSETTO:+0100
TZNAME:CET
DTSTART:20251026T010000
END:STANDARD
BEGIN:DAYLIGHT
TZOFFSETFROM:+0100
TZOFFSETTO:+0200
TZNAME:CEST
DTSTART:20260329T010000
END:DAYLIGHT
BEGIN:STANDARD
TZOFFSETFROM:+0200
TZOFFSETTO:+0100
TZNAME:CET
DTSTART:20261025T010000
END:STANDARD
BEGIN:DAYLIGHT
TZOFFSETFROM:+0100
TZOFFSETTO:+0200
TZNAME:CEST
DTSTART:20270328T010000
END:DAYLIGHT
BEGIN:STANDARD
TZOFFSETFROM:+0200
TZOFFSETTO:+0100
TZNAME:CET
DTSTART:20271031T010000
END:STANDARD
END:VTIMEZONE
BEGIN:VEVENT
DTSTART;VALUE=DATE:20260427
DTEND;VALUE=DATE:20260428
DTSTAMP:20260420T233434
CREATED:20260103T150130Z
LAST-MODIFIED:20260126T220513Z
UID:28916-1777248000-1777334399@www.a-ford.nl
SUMMARY:Oranje Rit
DESCRIPTION:Koningsdag 27 April\n( en niet 26 april zoals aangegeven op de kalender) \n  \nVanaf 10:30u bent u van harte welkom bij de familie Van Vliet\, Portengen 71 te Kockengen. \nKosten € 25 p.p.\, contant betalen bij aankomst. \n  \nBij aankomst staat de koffie met oranje verrassing voor u klaar. \n  \n11:30u vertrek voor een mooie rit door de omgeving \nca. 13:00u wordt er gepauzeerd \nca. 16:00u terugkomst in Kockengen waar het buffet dan klaarstaat. \n  \nAanmelden vóór 20 april bij: \nTrudy van Vliet \ntel. 034-6241636 \ne-mail: dentvanvliet@hotmail.com \nof \nPeter v/d Brom \ntel. 030-2435843 \nmob. 06-21345838
URL:https://www.a-ford.nl/event/oranje-rit-2/
LOCATION:Portengen 71\, Portengen 71\, Kockengen\, Netherlands
CATEGORIES:Clubevenementen
END:VEVENT
END:VCALENDAR